BEGIN:VCALENDAR
VERSION:2.0
PRODID:-//TAPestry Beer Bar - ECPv6.15.20//NONSGML v1.0//EN
CALSCALE:GREGORIAN
METHOD:PUBLISH
X-WR-CALNAME:TAPestry Beer Bar
X-ORIGINAL-URL:https://tapestrybeerbar.com
X-WR-CALDESC:Events for TAPestry Beer Bar
REFRESH-INTERVAL;VALUE=DURATION:PT1H
X-Robots-Tag:noindex
X-PUBLISHED-TTL:PT1H
BEGIN:VTIMEZONE
TZID:America/Halifax
BEGIN:DAYLIGHT
TZOFFSETFROM:-0400
TZOFFSETTO:-0300
TZNAME:ADT
DTSTART:20240310T060000
END:DAYLIGHT
BEGIN:STANDARD
TZOFFSETFROM:-0300
TZOFFSETTO:-0400
TZNAME:AST
DTSTART:20241103T050000
END:STANDARD
BEGIN:DAYLIGHT
TZOFFSETFROM:-0400
TZOFFSETTO:-0300
TZNAME:ADT
DTSTART:20250309T060000
END:DAYLIGHT
BEGIN:STANDARD
TZOFFSETFROM:-0300
TZOFFSETTO:-0400
TZNAME:AST
DTSTART:20251102T050000
END:STANDARD
BEGIN:DAYLIGHT
TZOFFSETFROM:-0400
TZOFFSETTO:-0300
TZNAME:ADT
DTSTART:20260308T060000
END:DAYLIGHT
BEGIN:STANDARD
TZOFFSETFROM:-0300
TZOFFSETTO:-0400
TZNAME:AST
DTSTART:20261101T050000
END:STANDARD
END:VTIMEZONE
BEGIN:VEVENT
DTSTART;TZID=America/Halifax:20251024T190000
DTEND;TZID=America/Halifax:20251024T233000
DTSTAMP:20260423T131934
CREATED:20251007T144003Z
LAST-MODIFIED:20251007T144123Z
UID:13191-1761332400-1761348600@tapestrybeerbar.com
SUMMARY:Closing at 7pm - Private Event
DESCRIPTION:Closed for a Private RentalSaturday\, May 2 Thank you.  
URL:https://tapestrybeerbar.com/event/closing-at-7pm-private-event/
END:VEVENT
END:VCALENDAR