BEGIN:VCALENDAR
VERSION:2.0
PRODID:-//TAPestry Beer Bar - ECPv6.15.20//NONSGML v1.0//EN
CALSCALE:GREGORIAN
METHOD:PUBLISH
X-ORIGINAL-URL:https://tapestrybeerbar.com
X-WR-CALDESC:Events for TAPestry Beer Bar
REFRESH-INTERVAL;VALUE=DURATION:PT1H
X-Robots-Tag:noindex
X-PUBLISHED-TTL:PT1H
BEGIN:VTIMEZONE
TZID:America/Halifax
BEGIN:DAYLIGHT
TZOFFSETFROM:-0400
TZOFFSETTO:-0300
TZNAME:ADT
DTSTART:20250309T060000
END:DAYLIGHT
BEGIN:STANDARD
TZOFFSETFROM:-0300
TZOFFSETTO:-0400
TZNAME:AST
DTSTART:20251102T050000
END:STANDARD
BEGIN:DAYLIGHT
TZOFFSETFROM:-0400
TZOFFSETTO:-0300
TZNAME:ADT
DTSTART:20260308T060000
END:DAYLIGHT
BEGIN:STANDARD
TZOFFSETFROM:-0300
TZOFFSETTO:-0400
TZNAME:AST
DTSTART:20261101T050000
END:STANDARD
BEGIN:DAYLIGHT
TZOFFSETFROM:-0400
TZOFFSETTO:-0300
TZNAME:ADT
DTSTART:20270314T060000
END:DAYLIGHT
BEGIN:STANDARD
TZOFFSETFROM:-0300
TZOFFSETTO:-0400
TZNAME:AST
DTSTART:20271107T050000
END:STANDARD
END:VTIMEZONE
BEGIN:VEVENT
DTSTART;TZID=America/Halifax:20260428T160000
DTEND;TZID=America/Halifax:20260428T200000
DTSTAMP:20260423T163418
CREATED:20251023T161243Z
LAST-MODIFIED:20260409T172041Z
UID:13312-1777392000-1777406400@tapestrybeerbar.com
SUMMARY:Bracelet Workshop with Mable & Rose
DESCRIPTION:Closing Early Friday\, December 12Open from 3:00pm – 5:00pm to the General Public Closing at 5:00pm for a Private Rental Thank you.    
URL:https://tapestrybeerbar.com/event/bracelet-workshop-with-mable-rose/
END:VEVENT
BEGIN:VEVENT
DTSTART;TZID=America/Halifax:20260429T120000
DTEND;TZID=America/Halifax:20260429T150000
DTSTAMP:20260423T163418
CREATED:20250618T012322Z
LAST-MODIFIED:20260327T155039Z
UID:12398-1777464000-1777474800@tapestrybeerbar.com
SUMMARY:Babies & Bevvies
DESCRIPTION:Closing Early Friday\, December 12Open from 3:00pm – 5:00pm to the General Public Closing at 5:00pm for a Private Rental Thank you.    
URL:https://tapestrybeerbar.com/event/babies-bevvies-10/
END:VEVENT
BEGIN:VEVENT
DTSTART;TZID=America/Halifax:20260429T193000
DTEND;TZID=America/Halifax:20260429T210000
DTSTAMP:20260423T163418
CREATED:20260327T152837Z
LAST-MODIFIED:20260423T161435Z
UID:14241-1777491000-1777496400@tapestrybeerbar.com
SUMMARY:Open Mic Night with Tom Bedell
DESCRIPTION:Closing Early Friday\, December 12Open from 3:00pm – 5:00pm to the General Public Closing at 5:00pm for a Private Rental Thank you.    
URL:https://tapestrybeerbar.com/event/open-mic-night-with-tom-bedell/
END:VEVENT
BEGIN:VEVENT
DTSTART;VALUE=DATE:20260502
DTEND;VALUE=DATE:20260503
DTSTAMP:20260423T163418
CREATED:20260423T161604Z
LAST-MODIFIED:20260423T161643Z
UID:14426-1777680000-1777766399@tapestrybeerbar.com
SUMMARY:Closed - Private Rental
DESCRIPTION:Closing Early Friday\, December 12Open from 3:00pm – 5:00pm to the General Public Closing at 5:00pm for a Private Rental Thank you.    
URL:https://tapestrybeerbar.com/event/closed-private-rental-3/
END:VEVENT
BEGIN:VEVENT
DTSTART;TZID=America/Halifax:20260508T170000
DTEND;TZID=America/Halifax:20260508T220000
DTSTAMP:20260423T163418
CREATED:20260423T161923Z
LAST-MODIFIED:20260423T162755Z
UID:14430-1778259600-1778277600@tapestrybeerbar.com
SUMMARY:Peaky Blinders Night & Cocktail Launch
DESCRIPTION:Closing Early Friday\, December 12Open from 3:00pm – 5:00pm to the General Public Closing at 5:00pm for a Private Rental Thank you.    
URL:https://tapestrybeerbar.com/event/peaky-blinders-night-cocktail-launch/
END:VEVENT
BEGIN:VEVENT
DTSTART;TZID=America/Halifax:20260509T150000
DTEND;TZID=America/Halifax:20260509T170000
DTSTAMP:20260423T163418
CREATED:20251023T160532Z
LAST-MODIFIED:20260327T155353Z
UID:13308-1778338800-1778346000@tapestrybeerbar.com
SUMMARY:Thirsty Reader Pop-Up
DESCRIPTION:Closing Early Friday\, December 12Open from 3:00pm – 5:00pm to the General Public Closing at 5:00pm for a Private Rental Thank you.    
URL:https://tapestrybeerbar.com/event/thirsty-reader-pop-up/
END:VEVENT
BEGIN:VEVENT
DTSTART;VALUE=DATE:20260523
DTEND;VALUE=DATE:20260524
DTSTAMP:20260423T163418
CREATED:20260409T143551Z
LAST-MODIFIED:20260409T143645Z
UID:14310-1779494400-1779580799@tapestrybeerbar.com
SUMMARY:Closed - Private Rental
DESCRIPTION:Closing Early Friday\, December 12Open from 3:00pm – 5:00pm to the General Public Closing at 5:00pm for a Private Rental Thank you.    
URL:https://tapestrybeerbar.com/event/closed-private-rental-2/
END:VEVENT
END:VCALENDAR