BEGIN:VCALENDAR
VERSION:2.0
PRODID:-//TAPestry Beer Bar - ECPv6.15.20//NONSGML v1.0//EN
CALSCALE:GREGORIAN
METHOD:PUBLISH
X-WR-CALNAME:TAPestry Beer Bar
X-ORIGINAL-URL:https://tapestrybeerbar.com
X-WR-CALDESC:Events for TAPestry Beer Bar
REFRESH-INTERVAL;VALUE=DURATION:PT1H
X-Robots-Tag:noindex
X-PUBLISHED-TTL:PT1H
BEGIN:VTIMEZONE
TZID:America/Halifax
BEGIN:DAYLIGHT
TZOFFSETFROM:-0400
TZOFFSETTO:-0300
TZNAME:ADT
DTSTART:20220313T060000
END:DAYLIGHT
BEGIN:STANDARD
TZOFFSETFROM:-0300
TZOFFSETTO:-0400
TZNAME:AST
DTSTART:20221106T050000
END:STANDARD
BEGIN:DAYLIGHT
TZOFFSETFROM:-0400
TZOFFSETTO:-0300
TZNAME:ADT
DTSTART:20230312T060000
END:DAYLIGHT
BEGIN:STANDARD
TZOFFSETFROM:-0300
TZOFFSETTO:-0400
TZNAME:AST
DTSTART:20231105T050000
END:STANDARD
BEGIN:DAYLIGHT
TZOFFSETFROM:-0400
TZOFFSETTO:-0300
TZNAME:ADT
DTSTART:20240310T060000
END:DAYLIGHT
BEGIN:STANDARD
TZOFFSETFROM:-0300
TZOFFSETTO:-0400
TZNAME:AST
DTSTART:20241103T050000
END:STANDARD
BEGIN:DAYLIGHT
TZOFFSETFROM:-0400
TZOFFSETTO:-0300
TZNAME:ADT
DTSTART:20250309T060000
END:DAYLIGHT
BEGIN:STANDARD
TZOFFSETFROM:-0300
TZOFFSETTO:-0400
TZNAME:AST
DTSTART:20251102T050000
END:STANDARD
END:VTIMEZONE
BEGIN:VEVENT
DTSTART;TZID=America/Halifax:20231231T200000
DTEND;TZID=America/Halifax:20240101T010000
DTSTAMP:20260424T073201
CREATED:20231205T234653Z
LAST-MODIFIED:20231231T141925Z
UID:8095-1704052800-1704070800@tapestrybeerbar.com
SUMMARY:New Year's Eve!
DESCRIPTION:Great Big Atlantic Tap Takeover!Friday\, July 12th For the first time – All 16 of our beer taps will be taken over by some very special guests from Newfoundland\, New Brunswick\, and PEI! Stay Tuned to see who’s going to be on tap! It’s a surprise!!! 🙂 ***Secrets Out!***Here is the list of the breweries participating in the Great Big Atlantic Tap Takeover: Lone Oak Brewing Co. (PEI) Tire Shack Brewing Co. (NB) Iron Rock Brewing Co. (NL) and Banished Brewing Limited (NL)
URL:https://tapestrybeerbar.com/event/new-years-eve/
END:VEVENT
BEGIN:VEVENT
DTSTART;TZID=America/Halifax:20231225T160000
DTEND;TZID=America/Halifax:20240104T210000
DTSTAMP:20260424T073201
CREATED:20231206T135302Z
LAST-MODIFIED:20231219T193112Z
UID:8107-1703520000-1704402000@tapestrybeerbar.com
SUMMARY:Holiday Closures
DESCRIPTION:Great Big Atlantic Tap Takeover!Friday\, July 12th For the first time – All 16 of our beer taps will be taken over by some very special guests from Newfoundland\, New Brunswick\, and PEI! Stay Tuned to see who’s going to be on tap! It’s a surprise!!! 🙂 ***Secrets Out!***Here is the list of the breweries participating in the Great Big Atlantic Tap Takeover: Lone Oak Brewing Co. (PEI) Tire Shack Brewing Co. (NB) Iron Rock Brewing Co. (NL) and Banished Brewing Limited (NL)
URL:https://tapestrybeerbar.com/event/holiday-closures/
END:VEVENT
BEGIN:VEVENT
DTSTART;VALUE=DATE:20231217
DTEND;VALUE=DATE:20231218
DTSTAMP:20260424T073201
CREATED:20231205T233958Z
LAST-MODIFIED:20231205T234133Z
UID:8087-1702771200-1702857599@tapestrybeerbar.com
SUMMARY:CLOSED - Tapestry Staff Party
DESCRIPTION:Great Big Atlantic Tap Takeover!Friday\, July 12th For the first time – All 16 of our beer taps will be taken over by some very special guests from Newfoundland\, New Brunswick\, and PEI! Stay Tuned to see who’s going to be on tap! It’s a surprise!!! 🙂 ***Secrets Out!***Here is the list of the breweries participating in the Great Big Atlantic Tap Takeover: Lone Oak Brewing Co. (PEI) Tire Shack Brewing Co. (NB) Iron Rock Brewing Co. (NL) and Banished Brewing Limited (NL)
URL:https://tapestrybeerbar.com/event/closed-tapestry-staff-party/
END:VEVENT
BEGIN:VEVENT
DTSTART;TZID=America/Halifax:20231214T193000
DTEND;TZID=America/Halifax:20231214T213000
DTSTAMP:20260424T073201
CREATED:20231205T235222Z
LAST-MODIFIED:20231205T235304Z
UID:8100-1702582200-1702589400@tapestrybeerbar.com
SUMMARY:Private Event
DESCRIPTION:Great Big Atlantic Tap Takeover!Friday\, July 12th For the first time – All 16 of our beer taps will be taken over by some very special guests from Newfoundland\, New Brunswick\, and PEI! Stay Tuned to see who’s going to be on tap! It’s a surprise!!! 🙂 ***Secrets Out!***Here is the list of the breweries participating in the Great Big Atlantic Tap Takeover: Lone Oak Brewing Co. (PEI) Tire Shack Brewing Co. (NB) Iron Rock Brewing Co. (NL) and Banished Brewing Limited (NL)
URL:https://tapestrybeerbar.com/event/private-event-4/
END:VEVENT
BEGIN:VEVENT
DTSTART;TZID=America/Halifax:20231211T180000
DTEND;TZID=America/Halifax:20231211T200000
DTSTAMP:20260424T073201
CREATED:20231116T142511Z
LAST-MODIFIED:20231116T142602Z
UID:7922-1702317600-1702324800@tapestrybeerbar.com
SUMMARY:Sack Vegas Beer Club Christmas Party
DESCRIPTION:Great Big Atlantic Tap Takeover!Friday\, July 12th For the first time – All 16 of our beer taps will be taken over by some very special guests from Newfoundland\, New Brunswick\, and PEI! Stay Tuned to see who’s going to be on tap! It’s a surprise!!! 🙂 ***Secrets Out!***Here is the list of the breweries participating in the Great Big Atlantic Tap Takeover: Lone Oak Brewing Co. (PEI) Tire Shack Brewing Co. (NB) Iron Rock Brewing Co. (NL) and Banished Brewing Limited (NL)
URL:https://tapestrybeerbar.com/event/sack-vegas-beer-club-christmas-party/
END:VEVENT
BEGIN:VEVENT
DTSTART;TZID=America/Halifax:20231206T160000
DTEND;TZID=America/Halifax:20231206T210000
DTSTAMP:20260424T073201
CREATED:20231026T015204Z
LAST-MODIFIED:20231026T015242Z
UID:7802-1701878400-1701896400@tapestrybeerbar.com
SUMMARY:Private Event - SBA Holiday Social
DESCRIPTION:Great Big Atlantic Tap Takeover!Friday\, July 12th For the first time – All 16 of our beer taps will be taken over by some very special guests from Newfoundland\, New Brunswick\, and PEI! Stay Tuned to see who’s going to be on tap! It’s a surprise!!! 🙂 ***Secrets Out!***Here is the list of the breweries participating in the Great Big Atlantic Tap Takeover: Lone Oak Brewing Co. (PEI) Tire Shack Brewing Co. (NB) Iron Rock Brewing Co. (NL) and Banished Brewing Limited (NL)
URL:https://tapestrybeerbar.com/event/private-event-sba-holiday-social/
END:VEVENT
BEGIN:VEVENT
DTSTART;TZID=America/Halifax:20231202T170000
DTEND;TZID=America/Halifax:20231202T210000
DTSTAMP:20260424T073201
CREATED:20231026T013603Z
LAST-MODIFIED:20231026T013709Z
UID:7786-1701536400-1701550800@tapestrybeerbar.com
SUMMARY:Christmas Market with Apt 3 Coffee
DESCRIPTION:Great Big Atlantic Tap Takeover!Friday\, July 12th For the first time – All 16 of our beer taps will be taken over by some very special guests from Newfoundland\, New Brunswick\, and PEI! Stay Tuned to see who’s going to be on tap! It’s a surprise!!! 🙂 ***Secrets Out!***Here is the list of the breweries participating in the Great Big Atlantic Tap Takeover: Lone Oak Brewing Co. (PEI) Tire Shack Brewing Co. (NB) Iron Rock Brewing Co. (NL) and Banished Brewing Limited (NL)
URL:https://tapestrybeerbar.com/event/christmas-market-with-apt-3-coffee/
END:VEVENT
BEGIN:VEVENT
DTSTART;TZID=America/Halifax:20231125T190000
DTEND;TZID=America/Halifax:20231125T210000
DTSTAMP:20260424T073201
CREATED:20231108T155212Z
LAST-MODIFIED:20231124T161455Z
UID:7890-1700938800-1700946000@tapestrybeerbar.com
SUMMARY:Holiday Paint Night with Craig Baltzer - SOLD OUT
DESCRIPTION:Great Big Atlantic Tap Takeover!Friday\, July 12th For the first time – All 16 of our beer taps will be taken over by some very special guests from Newfoundland\, New Brunswick\, and PEI! Stay Tuned to see who’s going to be on tap! It’s a surprise!!! 🙂 ***Secrets Out!***Here is the list of the breweries participating in the Great Big Atlantic Tap Takeover: Lone Oak Brewing Co. (PEI) Tire Shack Brewing Co. (NB) Iron Rock Brewing Co. (NL) and Banished Brewing Limited (NL)
URL:https://tapestrybeerbar.com/event/holiday-paint-night-with-craig-baltzer/
END:VEVENT
BEGIN:VEVENT
DTSTART;VALUE=DATE:20231125
DTEND;VALUE=DATE:20231126
DTSTAMP:20260424T073201
CREATED:20231108T155759Z
LAST-MODIFIED:20231108T155851Z
UID:7895-1700870400-1700956799@tapestrybeerbar.com
SUMMARY:Small Business Saturday
DESCRIPTION:Great Big Atlantic Tap Takeover!Friday\, July 12th For the first time – All 16 of our beer taps will be taken over by some very special guests from Newfoundland\, New Brunswick\, and PEI! Stay Tuned to see who’s going to be on tap! It’s a surprise!!! 🙂 ***Secrets Out!***Here is the list of the breweries participating in the Great Big Atlantic Tap Takeover: Lone Oak Brewing Co. (PEI) Tire Shack Brewing Co. (NB) Iron Rock Brewing Co. (NL) and Banished Brewing Limited (NL)
URL:https://tapestrybeerbar.com/event/small-business-saturday/
END:VEVENT
BEGIN:VEVENT
DTSTART;TZID=America/Halifax:20231118T180000
DTEND;TZID=America/Halifax:20231118T230000
DTSTAMP:20260424T073201
CREATED:20231026T014329Z
LAST-MODIFIED:20231026T014538Z
UID:7796-1700330400-1700348400@tapestrybeerbar.com
SUMMARY:Private Event
DESCRIPTION:Great Big Atlantic Tap Takeover!Friday\, July 12th For the first time – All 16 of our beer taps will be taken over by some very special guests from Newfoundland\, New Brunswick\, and PEI! Stay Tuned to see who’s going to be on tap! It’s a surprise!!! 🙂 ***Secrets Out!***Here is the list of the breweries participating in the Great Big Atlantic Tap Takeover: Lone Oak Brewing Co. (PEI) Tire Shack Brewing Co. (NB) Iron Rock Brewing Co. (NL) and Banished Brewing Limited (NL)
URL:https://tapestrybeerbar.com/event/private-event-3/
END:VEVENT
BEGIN:VEVENT
DTSTART;TZID=America/Halifax:20231117T190000
DTEND;TZID=America/Halifax:20231117T220000
DTSTAMP:20260424T073201
CREATED:20231026T014015Z
LAST-MODIFIED:20231026T014039Z
UID:7791-1700247600-1700258400@tapestrybeerbar.com
SUMMARY:Live Music with DJISM
DESCRIPTION:Great Big Atlantic Tap Takeover!Friday\, July 12th For the first time – All 16 of our beer taps will be taken over by some very special guests from Newfoundland\, New Brunswick\, and PEI! Stay Tuned to see who’s going to be on tap! It’s a surprise!!! 🙂 ***Secrets Out!***Here is the list of the breweries participating in the Great Big Atlantic Tap Takeover: Lone Oak Brewing Co. (PEI) Tire Shack Brewing Co. (NB) Iron Rock Brewing Co. (NL) and Banished Brewing Limited (NL)
URL:https://tapestrybeerbar.com/event/live-music-with-djism/
END:VEVENT
BEGIN:VEVENT
DTSTART;TZID=America/Halifax:20231117T170000
DTEND;TZID=America/Halifax:20231117T220000
DTSTAMP:20260424T073201
CREATED:20231108T154342Z
LAST-MODIFIED:20231108T154532Z
UID:7885-1700240400-1700258400@tapestrybeerbar.com
SUMMARY:KHUVA Craft Beer Blind Tasting
DESCRIPTION:Great Big Atlantic Tap Takeover!Friday\, July 12th For the first time – All 16 of our beer taps will be taken over by some very special guests from Newfoundland\, New Brunswick\, and PEI! Stay Tuned to see who’s going to be on tap! It’s a surprise!!! 🙂 ***Secrets Out!***Here is the list of the breweries participating in the Great Big Atlantic Tap Takeover: Lone Oak Brewing Co. (PEI) Tire Shack Brewing Co. (NB) Iron Rock Brewing Co. (NL) and Banished Brewing Limited (NL)
URL:https://tapestrybeerbar.com/event/khuva-craft-beer-blind-tasting/
END:VEVENT
BEGIN:VEVENT
DTSTART;VALUE=DATE:20231111
DTEND;VALUE=DATE:20231112
DTSTAMP:20260424T073201
CREATED:20231108T161514Z
LAST-MODIFIED:20231108T161609Z
UID:7900-1699660800-1699747199@tapestrybeerbar.com
SUMMARY:Remembrance Day
DESCRIPTION:Great Big Atlantic Tap Takeover!Friday\, July 12th For the first time – All 16 of our beer taps will be taken over by some very special guests from Newfoundland\, New Brunswick\, and PEI! Stay Tuned to see who’s going to be on tap! It’s a surprise!!! 🙂 ***Secrets Out!***Here is the list of the breweries participating in the Great Big Atlantic Tap Takeover: Lone Oak Brewing Co. (PEI) Tire Shack Brewing Co. (NB) Iron Rock Brewing Co. (NL) and Banished Brewing Limited (NL)
URL:https://tapestrybeerbar.com/event/remembrance-day/
END:VEVENT
BEGIN:VEVENT
DTSTART;TZID=America/Halifax:20231015T170000
DTEND;TZID=America/Halifax:20231015T190000
DTSTAMP:20260424T073201
CREATED:20230927T001733Z
LAST-MODIFIED:20230927T001831Z
UID:7616-1697389200-1697396400@tapestrybeerbar.com
SUMMARY:Beer Club - Private Event
DESCRIPTION:Great Big Atlantic Tap Takeover!Friday\, July 12th For the first time – All 16 of our beer taps will be taken over by some very special guests from Newfoundland\, New Brunswick\, and PEI! Stay Tuned to see who’s going to be on tap! It’s a surprise!!! 🙂 ***Secrets Out!***Here is the list of the breweries participating in the Great Big Atlantic Tap Takeover: Lone Oak Brewing Co. (PEI) Tire Shack Brewing Co. (NB) Iron Rock Brewing Co. (NL) and Banished Brewing Limited (NL)
URL:https://tapestrybeerbar.com/event/beer-club-private-event/
END:VEVENT
BEGIN:VEVENT
DTSTART;TZID=America/Halifax:20230916T150000
DTEND;TZID=America/Halifax:20231001T170000
DTSTAMP:20260424T073201
CREATED:20230822T144705Z
LAST-MODIFIED:20230915T234959Z
UID:7412-1694876400-1696179600@tapestrybeerbar.com
SUMMARY:Oktoberfest 2023
DESCRIPTION:Great Big Atlantic Tap Takeover!Friday\, July 12th For the first time – All 16 of our beer taps will be taken over by some very special guests from Newfoundland\, New Brunswick\, and PEI! Stay Tuned to see who’s going to be on tap! It’s a surprise!!! 🙂 ***Secrets Out!***Here is the list of the breweries participating in the Great Big Atlantic Tap Takeover: Lone Oak Brewing Co. (PEI) Tire Shack Brewing Co. (NB) Iron Rock Brewing Co. (NL) and Banished Brewing Limited (NL)
URL:https://tapestrybeerbar.com/event/oktoberfest-2023/
END:VEVENT
BEGIN:VEVENT
DTSTART;TZID=America/Halifax:20230909T140000
DTEND;TZID=America/Halifax:20230909T160000
DTSTAMP:20260424T073201
CREATED:20230906T140915Z
LAST-MODIFIED:20230906T141008Z
UID:7469-1694268000-1694275200@tapestrybeerbar.com
SUMMARY:Beer Club Booze Cruise
DESCRIPTION:Great Big Atlantic Tap Takeover!Friday\, July 12th For the first time – All 16 of our beer taps will be taken over by some very special guests from Newfoundland\, New Brunswick\, and PEI! Stay Tuned to see who’s going to be on tap! It’s a surprise!!! 🙂 ***Secrets Out!***Here is the list of the breweries participating in the Great Big Atlantic Tap Takeover: Lone Oak Brewing Co. (PEI) Tire Shack Brewing Co. (NB) Iron Rock Brewing Co. (NL) and Banished Brewing Limited (NL)
URL:https://tapestrybeerbar.com/event/beer-club-booze-cruise/
END:VEVENT
BEGIN:VEVENT
DTSTART;TZID=America/Halifax:20230627T160000
DTEND;TZID=America/Halifax:20230703T170000
DTSTAMP:20260424T073201
CREATED:20230620T144704Z
LAST-MODIFIED:20230620T144757Z
UID:7082-1687881600-1688403600@tapestrybeerbar.com
SUMMARY:Canada Day Holiday Hours
DESCRIPTION:Great Big Atlantic Tap Takeover!Friday\, July 12th For the first time – All 16 of our beer taps will be taken over by some very special guests from Newfoundland\, New Brunswick\, and PEI! Stay Tuned to see who’s going to be on tap! It’s a surprise!!! 🙂 ***Secrets Out!***Here is the list of the breweries participating in the Great Big Atlantic Tap Takeover: Lone Oak Brewing Co. (PEI) Tire Shack Brewing Co. (NB) Iron Rock Brewing Co. (NL) and Banished Brewing Limited (NL)
URL:https://tapestrybeerbar.com/event/canada-day-holiday-hours-2/
END:VEVENT
BEGIN:VEVENT
DTSTART;TZID=America/Halifax:20230614T160000
DTEND;TZID=America/Halifax:20230618T170000
DTSTAMP:20260424T073201
CREATED:20230519T170331Z
LAST-MODIFIED:20230607T211015Z
UID:6745-1686758400-1687107600@tapestrybeerbar.com
SUMMARY:Tapestry Anniversary Celebrations!
DESCRIPTION:Great Big Atlantic Tap Takeover!Friday\, July 12th For the first time – All 16 of our beer taps will be taken over by some very special guests from Newfoundland\, New Brunswick\, and PEI! Stay Tuned to see who’s going to be on tap! It’s a surprise!!! 🙂 ***Secrets Out!***Here is the list of the breweries participating in the Great Big Atlantic Tap Takeover: Lone Oak Brewing Co. (PEI) Tire Shack Brewing Co. (NB) Iron Rock Brewing Co. (NL) and Banished Brewing Limited (NL)
URL:https://tapestrybeerbar.com/event/tapestry-anniversary-celebrations/
END:VEVENT
BEGIN:VEVENT
DTSTART;TZID=America/Halifax:20230519T140000
DTEND;TZID=America/Halifax:20230522T230000
DTSTAMP:20260424T073201
CREATED:20230519T170105Z
LAST-MODIFIED:20230519T170208Z
UID:6740-1684504800-1684796400@tapestrybeerbar.com
SUMMARY:Victoria Day Long Weekend Hours
DESCRIPTION:Great Big Atlantic Tap Takeover!Friday\, July 12th For the first time – All 16 of our beer taps will be taken over by some very special guests from Newfoundland\, New Brunswick\, and PEI! Stay Tuned to see who’s going to be on tap! It’s a surprise!!! 🙂 ***Secrets Out!***Here is the list of the breweries participating in the Great Big Atlantic Tap Takeover: Lone Oak Brewing Co. (PEI) Tire Shack Brewing Co. (NB) Iron Rock Brewing Co. (NL) and Banished Brewing Limited (NL)
URL:https://tapestrybeerbar.com/event/victoria-day-long-weekend-hours/
END:VEVENT
BEGIN:VEVENT
DTSTART;TZID=America/Halifax:20230516T160000
DTEND;TZID=America/Halifax:20230528T220000
DTSTAMP:20260424T073201
CREATED:20230519T165626Z
LAST-MODIFIED:20230523T142124Z
UID:6735-1684252800-1685311200@tapestrybeerbar.com
SUMMARY:PEI Tap Takeover
DESCRIPTION:Great Big Atlantic Tap Takeover!Friday\, July 12th For the first time – All 16 of our beer taps will be taken over by some very special guests from Newfoundland\, New Brunswick\, and PEI! Stay Tuned to see who’s going to be on tap! It’s a surprise!!! 🙂 ***Secrets Out!***Here is the list of the breweries participating in the Great Big Atlantic Tap Takeover: Lone Oak Brewing Co. (PEI) Tire Shack Brewing Co. (NB) Iron Rock Brewing Co. (NL) and Banished Brewing Limited (NL)
URL:https://tapestrybeerbar.com/event/pei-tap-takeover/
END:VEVENT
BEGIN:VEVENT
DTSTART;TZID=America/Halifax:20230506T090000
DTEND;TZID=America/Halifax:20230506T110000
DTSTAMP:20260424T073201
CREATED:20230423T150631Z
LAST-MODIFIED:20230423T150746Z
UID:6674-1683363600-1683370800@tapestrybeerbar.com
SUMMARY:Summer Meet Up / Cars & Coffee
DESCRIPTION:Great Big Atlantic Tap Takeover!Friday\, July 12th For the first time – All 16 of our beer taps will be taken over by some very special guests from Newfoundland\, New Brunswick\, and PEI! Stay Tuned to see who’s going to be on tap! It’s a surprise!!! 🙂 ***Secrets Out!***Here is the list of the breweries participating in the Great Big Atlantic Tap Takeover: Lone Oak Brewing Co. (PEI) Tire Shack Brewing Co. (NB) Iron Rock Brewing Co. (NL) and Banished Brewing Limited (NL)
URL:https://tapestrybeerbar.com/event/summer-meet-up-cars-coffee/
END:VEVENT
BEGIN:VEVENT
DTSTART;TZID=America/Halifax:20230430T120000
DTEND;TZID=America/Halifax:20230430T130000
DTSTAMP:20260424T073201
CREATED:20230421T133920Z
LAST-MODIFIED:20230423T151044Z
UID:6665-1682856000-1682859600@tapestrybeerbar.com
SUMMARY:Beer & Yoga with Shayna Mae
DESCRIPTION:Great Big Atlantic Tap Takeover!Friday\, July 12th For the first time – All 16 of our beer taps will be taken over by some very special guests from Newfoundland\, New Brunswick\, and PEI! Stay Tuned to see who’s going to be on tap! It’s a surprise!!! 🙂 ***Secrets Out!***Here is the list of the breweries participating in the Great Big Atlantic Tap Takeover: Lone Oak Brewing Co. (PEI) Tire Shack Brewing Co. (NB) Iron Rock Brewing Co. (NL) and Banished Brewing Limited (NL)
URL:https://tapestrybeerbar.com/event/beer-yoga-with-shayna-mae-3/
END:VEVENT
BEGIN:VEVENT
DTSTART;TZID=America/Halifax:20230317T120000
DTEND;TZID=America/Halifax:20230317T230000
DTSTAMP:20260424T073201
CREATED:20230121T204445Z
LAST-MODIFIED:20230227T223124Z
UID:5914-1679054400-1679094000@tapestrybeerbar.com
SUMMARY:St. Patrick's Day!
DESCRIPTION:Great Big Atlantic Tap Takeover!Friday\, July 12th For the first time – All 16 of our beer taps will be taken over by some very special guests from Newfoundland\, New Brunswick\, and PEI! Stay Tuned to see who’s going to be on tap! It’s a surprise!!! 🙂 ***Secrets Out!***Here is the list of the breweries participating in the Great Big Atlantic Tap Takeover: Lone Oak Brewing Co. (PEI) Tire Shack Brewing Co. (NB) Iron Rock Brewing Co. (NL) and Banished Brewing Limited (NL)
URL:https://tapestrybeerbar.com/event/st-patricks-day-2/
END:VEVENT
BEGIN:VEVENT
DTSTART;TZID=America/Halifax:20230315T190000
DTEND;TZID=America/Halifax:20230315T210000
DTSTAMP:20260424T073201
CREATED:20230226T153216Z
LAST-MODIFIED:20230227T222235Z
UID:6222-1678906800-1678914000@tapestrybeerbar.com
SUMMARY:Paint Night with Craig Baltzer
DESCRIPTION:Great Big Atlantic Tap Takeover!Friday\, July 12th For the first time – All 16 of our beer taps will be taken over by some very special guests from Newfoundland\, New Brunswick\, and PEI! Stay Tuned to see who’s going to be on tap! It’s a surprise!!! 🙂 ***Secrets Out!***Here is the list of the breweries participating in the Great Big Atlantic Tap Takeover: Lone Oak Brewing Co. (PEI) Tire Shack Brewing Co. (NB) Iron Rock Brewing Co. (NL) and Banished Brewing Limited (NL)
URL:https://tapestrybeerbar.com/event/paint-night-with-craig-baltzer-2/
END:VEVENT
BEGIN:VEVENT
DTSTART;TZID=America/Halifax:20230226T130000
DTEND;TZID=America/Halifax:20230226T140000
DTSTAMP:20260424T073201
CREATED:20230223T165837Z
LAST-MODIFIED:20230223T165940Z
UID:6207-1677416400-1677420000@tapestrybeerbar.com
SUMMARY:Beer & Yoga with Shayna Mae
DESCRIPTION:Great Big Atlantic Tap Takeover!Friday\, July 12th For the first time – All 16 of our beer taps will be taken over by some very special guests from Newfoundland\, New Brunswick\, and PEI! Stay Tuned to see who’s going to be on tap! It’s a surprise!!! 🙂 ***Secrets Out!***Here is the list of the breweries participating in the Great Big Atlantic Tap Takeover: Lone Oak Brewing Co. (PEI) Tire Shack Brewing Co. (NB) Iron Rock Brewing Co. (NL) and Banished Brewing Limited (NL)
URL:https://tapestrybeerbar.com/event/beer-yoga-with-shayna-mae-2/
END:VEVENT
BEGIN:VEVENT
DTSTART;TZID=America/Halifax:20230222T190000
DTEND;TZID=America/Halifax:20230222T210000
DTSTAMP:20260424T073201
CREATED:20230215T033338Z
LAST-MODIFIED:20230215T033434Z
UID:6148-1677092400-1677099600@tapestrybeerbar.com
SUMMARY:Paint Night with Craig Baltzer
DESCRIPTION:Great Big Atlantic Tap Takeover!Friday\, July 12th For the first time – All 16 of our beer taps will be taken over by some very special guests from Newfoundland\, New Brunswick\, and PEI! Stay Tuned to see who’s going to be on tap! It’s a surprise!!! 🙂 ***Secrets Out!***Here is the list of the breweries participating in the Great Big Atlantic Tap Takeover: Lone Oak Brewing Co. (PEI) Tire Shack Brewing Co. (NB) Iron Rock Brewing Co. (NL) and Banished Brewing Limited (NL)
URL:https://tapestrybeerbar.com/event/paint-night-with-craig-baltzer/
END:VEVENT
BEGIN:VEVENT
DTSTART;TZID=America/Halifax:20230214T160000
DTEND;TZID=America/Halifax:20230214T210000
DTSTAMP:20260424T073201
CREATED:20230203T221018Z
LAST-MODIFIED:20230203T221229Z
UID:6062-1676390400-1676408400@tapestrybeerbar.com
SUMMARY:Valentine's Day Special feat. East Coast Smokehouse
DESCRIPTION:Great Big Atlantic Tap Takeover!Friday\, July 12th For the first time – All 16 of our beer taps will be taken over by some very special guests from Newfoundland\, New Brunswick\, and PEI! Stay Tuned to see who’s going to be on tap! It’s a surprise!!! 🙂 ***Secrets Out!***Here is the list of the breweries participating in the Great Big Atlantic Tap Takeover: Lone Oak Brewing Co. (PEI) Tire Shack Brewing Co. (NB) Iron Rock Brewing Co. (NL) and Banished Brewing Limited (NL)
URL:https://tapestrybeerbar.com/event/valentines-day-special-feat-east-coast-smokehouse/
END:VEVENT
BEGIN:VEVENT
DTSTART;TZID=America/Halifax:20230209T180000
DTEND;TZID=America/Halifax:20230209T220000
DTSTAMP:20260424T073201
CREATED:20230121T204152Z
LAST-MODIFIED:20230121T204251Z
UID:5909-1675965600-1675980000@tapestrybeerbar.com
SUMMARY:Private Booking
DESCRIPTION:Great Big Atlantic Tap Takeover!Friday\, July 12th For the first time – All 16 of our beer taps will be taken over by some very special guests from Newfoundland\, New Brunswick\, and PEI! Stay Tuned to see who’s going to be on tap! It’s a surprise!!! 🙂 ***Secrets Out!***Here is the list of the breweries participating in the Great Big Atlantic Tap Takeover: Lone Oak Brewing Co. (PEI) Tire Shack Brewing Co. (NB) Iron Rock Brewing Co. (NL) and Banished Brewing Limited (NL)
URL:https://tapestrybeerbar.com/event/private-booking/
END:VEVENT
BEGIN:VEVENT
DTSTART;TZID=America/Halifax:20230129T130000
DTEND;TZID=America/Halifax:20230129T140000
DTSTAMP:20260424T073201
CREATED:20230117T213546Z
LAST-MODIFIED:20230117T213642Z
UID:5829-1674997200-1675000800@tapestrybeerbar.com
SUMMARY:Beer & Yoga with Shayna Mae
DESCRIPTION:Great Big Atlantic Tap Takeover!Friday\, July 12th For the first time – All 16 of our beer taps will be taken over by some very special guests from Newfoundland\, New Brunswick\, and PEI! Stay Tuned to see who’s going to be on tap! It’s a surprise!!! 🙂 ***Secrets Out!***Here is the list of the breweries participating in the Great Big Atlantic Tap Takeover: Lone Oak Brewing Co. (PEI) Tire Shack Brewing Co. (NB) Iron Rock Brewing Co. (NL) and Banished Brewing Limited (NL)
URL:https://tapestrybeerbar.com/event/beer-yoga-with-shayna-mae/
END:VEVENT
BEGIN:VEVENT
DTSTART;TZID=America/Halifax:20230118T160000
DTEND;TZID=America/Halifax:20230129T220000
DTSTAMP:20260424T073201
CREATED:20230118T041127Z
LAST-MODIFIED:20230121T203735Z
UID:5838-1674057600-1675029600@tapestrybeerbar.com
SUMMARY:NB Tap Takeover
DESCRIPTION:Great Big Atlantic Tap Takeover!Friday\, July 12th For the first time – All 16 of our beer taps will be taken over by some very special guests from Newfoundland\, New Brunswick\, and PEI! Stay Tuned to see who’s going to be on tap! It’s a surprise!!! 🙂 ***Secrets Out!***Here is the list of the breweries participating in the Great Big Atlantic Tap Takeover: Lone Oak Brewing Co. (PEI) Tire Shack Brewing Co. (NB) Iron Rock Brewing Co. (NL) and Banished Brewing Limited (NL)
URL:https://tapestrybeerbar.com/event/nb-tap-takeover/
END:VEVENT
END:VCALENDAR